BEGIN:VCALENDAR
VERSION:2.0
BEGIN:VEVENT
UID:8CA30DDF-3E03-4F25-B7BE-B33E329E87EC
DTSTART:20220430T100000Z
DTEND:20220625T100000Z
SUMMARY:Saturday Morning Mindful Meditation
DESCRIPTION:This Is Your Wake-up Call To Saturday Morning Mindful Meditatio
 n:) \n \n About this event \n \n \n Hi Friends\,  \n  Exciting News! We ar
 e promoting our Saturday Morning Live Mindful Meditations again! I was doi
 ng this last year very successfully even during the Pandemic! We had numer
 ous Folks join us! \n I am offering 10 Sessions for only $10.00 for each S
 ession! You need to Sign up in advance! You cant beat the price. \n  So br
 ing your yoga mats or chairs\, whatever is comfortable for you! \n Look fo
 r our bright orange Traffic cones as pictured here under the big "Happy Tr
 ee" as we called it last year! \n  So Isabel& I look forward to meeting\,
  engaging\, and practicing with y'all! \n So Sign up now: \n  https://www.
 eventbrite.com/e/saturday-morning-mindful-meditation-tickets-325955691247?
 aff=erelpanelorg \n   \n What I recommend is: Seek approval from your Prim
 ary Care Physician first. \n Informed Consent:  \n ***Mindfulness practice
  has been known to have the benefits of improved  \n concentration\, stres
 s reduction\, & management of mild symptoms for  \n pain\, headaches\, dep
 ression\, anxiety\, or gastrointestinal discomfort. \n The mindfulness med
 itation exercises may bring forth memories\, emotions\,  \n experiences th
 at may be uncomfortable. Some people may experience  \n changes in their s
 leep or dreams. Seek counseling assistance if you are having  \n negative
  or distressful reactions. If you are in treatment\, consult with your  \n
  mental health provider before beginning this course. Advise your mental
   \n health professional of changes.*** \n So in essense by signing up\, y
 ou accept any/all potential risks. \n   \n ***Our hope is that you can Ben
 efit from all the Benefits listed above.\nBethany Lakes Park\n745 South Al
 len Heights Drive\nAllen\, TX 75002 United States\n
LOCATION:745 South Allen Heights Drive\, Allen\, TX 75002
URL:http://mckinney.bubblelife.com/community/finestfotos_llc/library/351417
 5414/key/3511187183/Saturday_Morning_Mindful_Meditation
CREATED:20220423T163237Z
LAST-MODIFIED:20220423T163237Z
DTSTAMP:20260420T021917Z
RRULE:FREQ=WEEKLY;COUNT=10;WKST=SA;BYDAY=SA
CLASS:PUBLIC
STATUS:CONFIRMED
TRANSP:TRANSPARENT
SEQUENCE:1
END:VEVENT
END:VCALENDAR
