BEGIN:VCALENDAR
VERSION:2.0
BEGIN:VEVENT
UID:FF2B7B19-D907-43EC-878F-2F2E155D602E
DTSTART:20260430T150000Z
DTEND:20260430T160000Z
SUMMARY:Learning Series: Discover The {FULL} Life
DESCRIPTION:Curious what life is really like at Touchmark at Emerald Lake?
  Join us for the first event in our Learning Series and discover the lifes
 tyle\, culture\, and everyday experiences that make our community so speci
 al. \nHear from Executive Director Wesley Helms and our independent living
  Life Enrichment/Wellness team\, along with residents who will share first
 hand how moving to Touchmark has positively transformed their lives. After
  the presentation\, stay and enjoy a community happy hour with appetizers
  and conversation. \n  \nBuilding: Collin Commons  \n  \nCall to RSVP by A
 pril 27: 972-787-2801\nTouchmark at Emerald Lake\n350 S Hardin Blvd\nMcKin
 ney\, TX 75072 United States\n
LOCATION:350 S Hardin Blvd\, McKinney\, TX 75072
URL:http://mckinney.bubblelife.com/community/sociable_llc/library/355425740
 3/key/3511778684/Learning_Series_Discover_The_FULL_Life
CREATED:20260416T104843Z
LAST-MODIFIED:20260416T104843Z
DTSTAMP:20260423T044631Z
CLASS:PUBLIC
STATUS:CONFIRMED
TRANSP:TRANSPARENT
SEQUENCE:1
END:VEVENT
END:VCALENDAR
