BEGIN:VCALENDAR
VERSION:2.0
BEGIN:VEVENT
UID:24A62F16-C8D7-4CBE-880B-7E141D9BEB6E
DTSTART:20260220T170000Z
DTEND:20260221T083000Z
SUMMARY:Family Campout
DESCRIPTION:The Family Campout will offer groups an evening of fantastic di
 scovery after hours! Our programs include team-building activities\, the o
 pportunity to experience Texas wildlife\, s’mores\, and more. Experience w
 hat it’s like to be a member of the Heard’s nightlife. And\, enjoy a night
  that your group will never forget! Spots are limited\, so be sure to get
  your ticket now. Reservations required. \n This program is available to f
 amilies with kids recommended ages 5 through 17. Each attending group must
  have at least 1 adult per 4 children to provide supervision.  $24 per chi
 ld (ages 5-17)\; $29 per adult (ages 18+). \n The 5pm campouts end at 8:30
 am\, the 6pm campouts end at 9:30am\, and the 6:30pm campouts end at 10:00
 am. \n February 20\, 2026\, 5pm\; March 13\, 2026\, 6pm\; March 16\, 2026\
 , 6pm\; March 20\, 2026\, 6pm\; April 11\, 2026\, 6:30pm\; April 24\, 2026
 \, 6:30pm\; May 8\, 2026\, 6:30pm\; May 23\, 2026\, 6:30pm\; June 5\, 2026
 \, 6:30pm \n https://www.heardmuseum.org/other-programs/#campout
URL:http://mckinney.bubblelife.com/community/heard_natural_science_museum_w
 ildlife_sanctuary/library/35945182/key/3511795262/Family_Campout
CREATED:20251122T234621Z
LAST-MODIFIED:20251122T234621Z
DTSTAMP:20260423T062529Z
RRULE:FREQ=MONTHLY;UNTIL=20260605T000000Z;WKST=FR;BYDAY=2FR
CLASS:PUBLIC
STATUS:CONFIRMED
TRANSP:TRANSPARENT
SEQUENCE:1
END:VEVENT
END:VCALENDAR
